BEGIN:VCALENDAR
VERSION:2.0
PRODID:-//https://www.orbe.ch//NONSGML kigkonsult.se iCalcreator 2.41.71//
CALSCALE:GREGORIAN
METHOD:PUBLISH
UID:32616430-3534-4636-b266-383730656164
X-WR-CALNAME:JCal Pro Calendar
X-WR-CALDESC:Your online events calendar
X-WR-TIMEZONE:Europe/Zurich
BEGIN:VTIMEZONE
TZID:Europe/Zurich
TZUNTIL:20271031T010000Z
BEGIN:STANDARD
TZNAME:CET
DTSTART:20251026T030000
TZOFFSETFROM:+0200
TZOFFSETTO:+0100
RDATE:20261025T030000
END:STANDARD
BEGIN:DAYLIGHT
TZNAME:CEST
DTSTART:20260329T020000
TZOFFSETFROM:+0100
TZOFFSETTO:+0200
RDATE:20270328T020000
END:DAYLIGHT
END:VTIMEZONE
BEGIN:VEVENT
UID:20260318T154500UTC-3234mrwrZI@https://www.orbe.ch/
DTSTAMP:20260419T182947Z
CATEGORIES:Divers
DESCRIPTION:<p>Venez partager un moment de lecture intergénérationnel avec 
 les bénévoles de l’association « Le mouvement des aînés Vaud ».</p>\n<ul>
 \n<li>Salle « Documentaires - Adulte ».</li>\n<li>Dès 5 ans et famille.</l
 i>\n<li>Entrée libre</li>\n</ul>\n<p><a href='https://biblio.orbe.ch/'>Sit
 e internet</a></p>\n<br />
DTSTART;TZID=Europe/Zurich:20260422T154500
DTEND;TZID=Europe/Zurich:20260422T154500
SUMMARY:Lis-moi une histoire
URL:https://www.orbe.ch/agenda/159-divers/275017-lis-moi-une-histoire-4.htm
 l
X-ALT-DESC;FMTTYPE=TEXT/HTML:<p>Venez partager un moment de lecture intergé
 nérationnel avec les bénévoles de l’association « Le mouvement des aînés V
 aud ».</p>\n<ul>\n<li>Salle « Documentaires - Adulte ».</li>\n<li>Dès 5 an
 s et famille.</li>\n<li>Entrée libre</li>\n</ul>\n<p><a href='https://bibl
 io.orbe.ch/'>Site internet</a></p>\n<br />
END:VEVENT
END:VCALENDAR
